BEGIN:VCALENDAR
VERSION:2.0
PRODID:Benção do Presépio e Apresentação \"Árvore de Natal da Nossa T
 erra\"
X-WR-CALNAME:Benção do Presépio e Apresentação \"Árvore de Natal da N
 ossa Terra\"
X-WR-TIMEZONE:Europe/Lisbon
X-PUBLISHED-TTL:P1W
BEGIN:VTIMEZONE
TZID:Europe/Lisbon
X-LIC-LOCATION:Europe/Lisbon
END:VTIMEZONE
BEGIN:VEVENT
UID:69ea32f0484bc
DTSTART;VALUE=DATE:20251208
SEQUENCE:0
TRANSP:OPAQUE
DTEND;VALUE=DATE:20251209
SUMMARY:Benção do Presépio e Apresentação \"Árvore de Natal da Nossa 
 Terra\"
CLASS:PUBLIC
DESCRIPTION:Local: Largo da Achada
X-MICROSOFT-CDO-ALLDAYEVENT:TRUE
DTSTAMP:20260423T145544Z
END:VEVENT
END:VCALENDAR