BEGIN:VCALENDAR
VERSION:2.0
PRODID:XXXV Festa da Maçã
X-WR-CALNAME:XXXV Festa da Maçã
X-WR-TIMEZONE:Europe/Lisbon
X-PUBLISHED-TTL:P1W
BEGIN:VTIMEZONE
TZID:Europe/Lisbon
X-LIC-LOCATION:Europe/Lisbon
END:VTIMEZONE
BEGIN:VEVENT
UID:69ec16bfb5ca7
DTSTART;VALUE=DATE:20221013
SEQUENCE:0
TRANSP:OPAQUE
DTEND;VALUE=DATE:20221014
SUMMARY:XXXV Festa da Maçã
CLASS:PUBLIC
DESCRIPTION:Organização: Junta de Freguesia da CamachaLocal: Largo Consel
 heiro Aires de Ornelas
X-MICROSOFT-CDO-ALLDAYEVENT:TRUE
DTSTAMP:20260425T011959Z
END:VEVENT
END:VCALENDAR